BEGIN:VCALENDAR
VERSION:2.0
PRODID:-//EVANESCE - ECPv6.9.0//NONSGML v1.0//EN
CALSCALE:GREGORIAN
METHOD:PUBLISH
X-WR-CALNAME:EVANESCE
X-ORIGINAL-URL:https://evanesce.com
X-WR-CALDESC:Events for EVANESCE
REFRESH-INTERVAL;VALUE=DURATION:PT1H
X-Robots-Tag:noindex
X-PUBLISHED-TTL:PT1H
BEGIN:VTIMEZONE
TZID:UTC
BEGIN:STANDARD
TZOFFSETFROM:+0000
TZOFFSETTO:+0000
TZNAME:UTC
DTSTART:20220101T000000
END:STANDARD
END:VTIMEZONE
BEGIN:VEVENT
DTSTART;VALUE=DATE:20240518
DTEND;VALUE=DATE:20240522
DTSTAMP:20260425T145235
CREATED:20230523T203140Z
LAST-MODIFIED:20240312T224152Z
UID:3727-1715990400-1716335999@evanesce.com
SUMMARY:National Restaurant Association Show
DESCRIPTION:The National Restaurant Association Restaurant\, Hotel-Motel Show is the largest annual gathering of foodservice professionals in the Western Hemisphere. The Show brings together the people\, ideas\, products\, solutions\, and information that make up the entire domestic and international industry spectrum. It is the must-attend\, pinnacle event of the industry. \nSouth Building — 123
URL:https://evanesce.com/event/national-restaurant-association-show/
LOCATION:McCormick Place\, 2301 S. King Drive\, Chicago\, IL\, 60616\, United States
ATTACH;FMTTYPE=image/jpeg:https://evanesce.com/wp-content/uploads/2023/05/national-restaurant-show-2024.jpg
END:VEVENT
BEGIN:VEVENT
DTSTART;VALUE=DATE:20230520
DTEND;VALUE=DATE:20230524
DTSTAMP:20260425T145235
CREATED:20220528T200250Z
LAST-MODIFIED:20230523T171543Z
UID:1719-1684540800-1684886399@evanesce.com
SUMMARY:National Restaurant Show
DESCRIPTION:REGISTER NOW \nThe National Restaurant Association Show is back! After the unprecedented challenges the industry has faced over the past year and a half\, we are gearing up for the best Show ever\, and we can’t wait to celebrate together in Chicago at McCormick Place\, May 20-23\, 2023. From expert-led sessions unpacking new industry challenges and opportunities to industry-leading products and solutions for growth\, the 2023 Show will help you find what you need to navigate today’s new business realities. \nThe National Restaurant Association Restaurant\, Hotel-Motel Show is the largest annual gathering of foodservice professionals in the Western Hemisphere. The Show brings together the people\, ideas\, products\, solutions\, and information that make up the entire domestic and international industry spectrum. It is the must-attend\, pinnacle event of the industry. \nBOOTH# 5438
URL:https://evanesce.com/event/national-restaurant-show/
LOCATION:McCormick Place\, 2301 S. King Drive\, Chicago\, IL\, 60616\, United States
ATTACH;FMTTYPE=image/jpeg:https://evanesce.com/wp-content/uploads/2022/05/national-restaurant-show-2023.jpg
END:VEVENT
BEGIN:VEVENT
DTSTART;VALUE=DATE:20230327
DTEND;VALUE=DATE:20230330
DTSTAMP:20260425T145235
CREATED:20220825T215049Z
LAST-MODIFIED:20220825T215057Z
UID:3148-1679875200-1680134399@evanesce.com
SUMMARY:Bar & Restaurant Expo
DESCRIPTION:REGISTER NOW \nSee it. Taste it. Experience it. \nThe hospitality world as we know it has changed and we’re welcoming an exciting new era for our industry at Bar & Restaurant Expo\, formerly known as Nightclub & Bar Show. \nFrom single-unit to national chain operators and the industry’s largest hospitality groups\, Bar & Restaurant Expo will deliver the latest in experience and innovation to move your business forward. \nGet ahead of the curve by hearing about (and tasting!) the latest trends\, troubleshoot the challenges facing your business\, hear what’s working to retain staff\, and learn what the future will look like… and how to get there\, fast! \nVisit the Evanesce team at Booth # RZ46
URL:https://evanesce.com/event/bar_restaurant_expo/
LOCATION:Las Vegas Convention Center\, 3150 Paradise Rd\, Las Vegas\, NV\, 89109\, United States
ATTACH;FMTTYPE=image/jpeg:https://evanesce.com/wp-content/uploads/2022/08/bar-restaurant-expo-evanesce.jpg
END:VEVENT
BEGIN:VEVENT
DTSTART;VALUE=DATE:20221101
DTEND;VALUE=DATE:20221104
DTSTAMP:20260425T145235
CREATED:20220629T191951Z
LAST-MODIFIED:20221021T161509Z
UID:2349-1667260800-1667519999@evanesce.com
SUMMARY:Florida Restaurant & Lodging Show
DESCRIPTION:REGISTER NOW \nJoin thousands of your peers at the Florida Restaurant & Lodging Show\, where you’ll have access to the hottest menu trends\, state of the art design and decor\, the best in business education within our education summits\, and hundreds of the leading vendors and purveyors dedicated to serving the restaurant & foodservice community — all under one roof. \nBooth # 1500
URL:https://evanesce.com/event/florida-restaurant-lodging-show/
LOCATION:Caribe Royale Resort\, 8101 World Center Dr.\, Orlando\, FL\, 32821\, United States
ATTACH;FMTTYPE=image/jpeg:https://evanesce.com/wp-content/uploads/2022/06/florida-restaurant-show.jpg
END:VEVENT
BEGIN:VEVENT
DTSTART;VALUE=DATE:20221023
DTEND;VALUE=DATE:20221027
DTSTAMP:20260425T145235
CREATED:20220530T142012Z
LAST-MODIFIED:20221021T161209Z
UID:1740-1666483200-1666828799@evanesce.com
SUMMARY:Pack Expo International
DESCRIPTION:REGISTER NOW \nPACK EXPO International is the industry-defining show you can’t miss! Be part of the show that shapes the industry\, the most comprehensive packaging and processing event of the year. Evanesce® will be exhibiting among the leading providers of packaging\, processing and supply-chain solutions will showcase equipment\, materials and more. \nVisit us at Booth LU-8462
URL:https://evanesce.com/event/pack-expo-international/
LOCATION:McCormick Place\, 2301 S. King Drive\, Chicago\, IL\, 60616\, United States
ATTACH;FMTTYPE=image/webp:https://evanesce.com/wp-content/uploads/2022/05/pack-expo-2022.jpg.webp
END:VEVENT
BEGIN:VEVENT
DTSTART;VALUE=DATE:20220828
DTEND;VALUE=DATE:20220831
DTSTAMP:20260425T145235
CREATED:20220629T192450Z
LAST-MODIFIED:20220629T192450Z
UID:2354-1661644800-1661903999@evanesce.com
SUMMARY:Western Foodservice & Hospitality Expo
DESCRIPTION:REGISTER NOW \nFrom August 25-27 thousands of restaurant\, foodservice and hospitality industry professionals will gather for the Western Foodservice & Hospitality Expo\, Healthy Food Expo West and Coffee Fest at the Los Angeles Convention Center. \nAttendees will have access to all three trade shows and conferences which will offer something for each part of the community with education\, culinary demonstrations\, exhibits and networking opportunities. \nEvanesce will be exhibiting at the Western Foodservice & Hospitality Expo. Booth # 1303
URL:https://evanesce.com/event/western-foodservice-hospitality-expo/
LOCATION:Los Angeles Convention Center\, 1201 S Figueroa St\, Los Angeles\, CA\, 90015\, United States
ATTACH;FMTTYPE=image/jpeg:https://evanesce.com/wp-content/uploads/2022/06/western-food-expo.jpg
END:VEVENT
BEGIN:VEVENT
DTSTART;VALUE=DATE:20220309
DTEND;VALUE=DATE:20220312
DTSTAMP:20260425T145235
CREATED:20220528T204005Z
LAST-MODIFIED:20220528T204005Z
UID:1723-1646784000-1647043199@evanesce.com
SUMMARY:Sustainability in Packaging US
DESCRIPTION:<p>Taking place March 9-11\, 2022\, Sustainability in Packaging US will return to Chicago\, Illinois\, to unite a wide variety of stakeholders from brand owners and retailers\, to packaging converters\, manufacturers\, suppliers\, recyclers and more\, to network\, connect\, and explore the future of sustainable packaging. Learn more about the key challenges\, industry trends\, market drivers\, and new solutions that are steering the supply chain towards an increasingly circular economy and more sustainable future.</p>\n<p>Be sure to attend our Founder and CEO’s presentation at the <a href=”https://www.sustainability-in-packaging.com/sustainability-in-packaging-us/workshops/packaging-alternatives-and-innovation-in-sustainab” target=”_blank” rel=”noopener”>preshow event</a> on Wednesday\, the 9th of March at 2pm.</p>
URL:https://evanesce.com/event/sustainability-in-packaging-us/
LOCATION:Swissotel Chicago\, 323 East Upper Wacker Drive\, Chicago\, IL\, United States
ATTACH;FMTTYPE=image/webp:https://evanesce.com/wp-content/uploads/2022/05/sustainable-packaging-2022.jpg.webp
END:VEVENT
END:VCALENDAR